BEGIN:VCALENDAR
VERSION:2.0
PRODID:spatie/icalendar-generator
DESCRIPTION:Veranstaltungen von Klostermühle Altenmarkt
X-WR-CALDESC:Veranstaltungen von Klostermühle Altenmarkt
REFRESH-INTERVAL;VALUE=DURATION:PT1440M
X-PUBLISHED-TTL:PT1440M
BEGIN:VTIMEZONE
TZID:Etc/GMT+0
BEGIN:STANDARD
DTSTART:20230906T140000Z
TZOFFSETFROM:+0000
TZOFFSETTO:+0000
END:STANDARD
END:VTIMEZONE
BEGIN:VTIMEZONE
TZID:UTC
BEGIN:STANDARD
DTSTART:20250724T111543Z
TZOFFSETFROM:+0000
TZOFFSETTO:+0000
END:STANDARD
END:VTIMEZONE
BEGIN:VEVENT
UID:1817-7
DTSTAMP:20260420T111543Z
SUMMARY:Musi in d'Mühl mit Holunderblütenfest
LOCATION:Klostermühle Altenmarkt Altenmarkt 6  Cham  93413
ORGANIZER;CN=Rauscher_2606:MAILTO:info@klostermuehle-altenmarkt.de
DTSTART;TZID=Etc/GMT+0:20240602T140000
DTEND;TZID=Etc/GMT+0:20240602T180000
X-ALT-DESC;FMTTYPE=TEXT/HTML:Wir feiern gemeinsam mit dem Heimatverein Cham
  ein großes Holunderblütenfest. Musikalisch wird die Veranstaltung von d
 er \"Woideckmusi\" und der \"Hof- und Dorfkapelle\" umrahmt. Kulinarisch v
 ersorgen wir Euch mit den feinsten regionalen Schmankerl\, frischen Holler
 -Speisen und vieles mehr! Eintritt ist frei\, wir gfrein uns auf Euch! &amp;nb
 sp\;
CATEGORIES:Veranstaltung
URL;VALUE=URI:https://klostermuehle-altenmarkt.de/mc-events/musi-in-dmuehl-
 mit-holunderbluetenfest
METHOD:PUBLISH
END:VEVENT
END:VCALENDAR