BEGIN:VCALENDAR
VERSION:2.0
PRODID:spatie/icalendar-generator
DESCRIPTION:Veranstaltungen von Klostermühle Altenmarkt
X-WR-CALDESC:Veranstaltungen von Klostermühle Altenmarkt
REFRESH-INTERVAL;VALUE=DURATION:PT1440M
X-PUBLISHED-TTL:PT1440M
BEGIN:VTIMEZONE
TZID:Etc/GMT+0
BEGIN:STANDARD
DTSTART:20240321T150000Z
TZOFFSETFROM:+0000
TZOFFSETTO:+0000
END:STANDARD
END:VTIMEZONE
BEGIN:VTIMEZONE
TZID:UTC
BEGIN:STANDARD
DTSTART:20250723T210826Z
TZOFFSETFROM:+0000
TZOFFSETTO:+0000
END:STANDARD
END:VTIMEZONE
BEGIN:VEVENT
UID:1847-8
DTSTAMP:20260419T210826Z
SUMMARY:Rentnerstammtisch
LOCATION:Klostermühle Altenmarkt Altenmarkt 6  Cham  93413
ORGANIZER;CN=Rauscher_2606:MAILTO:info@klostermuehle-altenmarkt.de
RRULE:FREQ=WEEKLY;UNTIL=20241230T000000Z
DTSTART;TZID=Etc/GMT+0:20241216T150000
DTEND;TZID=Etc/GMT+0:20241216T160000
X-ALT-DESC;FMTTYPE=TEXT/HTML:Wöchentliche \"Kulturveranstaltung\" der Rent
 ner aus Altenmarkt\, Michelsdorf und Umgebung. Bei gutem Wetter in der Rem
 ise oder im Biergarten\, ansonsten in der Schänke.
CATEGORIES:Veranstaltung
URL;VALUE=URI:https://klostermuehle-altenmarkt.de/mc-events/rentnerstammtis
 ch?mc_id=1847
METHOD:PUBLISH
END:VEVENT
END:VCALENDAR