BEGIN:VCALENDAR
VERSION:2.0
PRODID:spatie/icalendar-generator
DESCRIPTION:Veranstaltungen von Klostermühle Altenmarkt
X-WR-CALDESC:Veranstaltungen von Klostermühle Altenmarkt
REFRESH-INTERVAL;VALUE=DURATION:PT1440M
X-PUBLISHED-TTL:PT1440M
BEGIN:VTIMEZONE
TZID:Etc/GMT+0
BEGIN:STANDARD
DTSTART:20231012T000000Z
TZOFFSETFROM:+0000
TZOFFSETTO:+0000
END:STANDARD
END:VTIMEZONE
BEGIN:VTIMEZONE
TZID:UTC
BEGIN:STANDARD
DTSTART:20250726T075453Z
TZOFFSETFROM:+0000
TZOFFSETTO:+0000
END:STANDARD
END:VTIMEZONE
BEGIN:VEVENT
UID:2124-20
DTSTAMP:20260422T075453Z
SUMMARY:9.00 Uhr Joga mit Frau Kriegelstein
LOCATION:Klostermühle Altenmarkt Altenmarkt 6  Cham  93413
ORGANIZER;CN=Rauscher_2606:MAILTO:info@klostermuehle-altenmarkt.de
RRULE:FREQ=WEEKLY;UNTIL=20240708T000000Z
DTSTART;TZID=Etc/GMT+0;VALUE=DATE:20240708
DTEND;TZID=Etc/GMT+0;VALUE=DATE:20240709
X-ALT-DESC;FMTTYPE=TEXT/HTML:
CATEGORIES:Seminare
URL;VALUE=URI:https://klostermuehle-altenmarkt.de/mc-events/9-00-uhr-joga-m
 it-frau-kriegelstein?mc_id=2124
METHOD:PUBLISH
END:VEVENT
END:VCALENDAR