BEGIN:VCALENDAR
VERSION:2.0
PRODID:spatie/icalendar-generator
DESCRIPTION:Veranstaltungen von Klostermühle Altenmarkt
X-WR-CALDESC:Veranstaltungen von Klostermühle Altenmarkt
REFRESH-INTERVAL;VALUE=DURATION:PT1440M
X-PUBLISHED-TTL:PT1440M
BEGIN:VTIMEZONE
TZID:Etc/GMT+0
BEGIN:STANDARD
DTSTART:20240422T000000Z
TZOFFSETFROM:+0000
TZOFFSETTO:+0000
END:STANDARD
END:VTIMEZONE
BEGIN:VTIMEZONE
TZID:UTC
BEGIN:STANDARD
DTSTART:20250725T165721Z
TZOFFSETFROM:+0000
TZOFFSETTO:+0000
END:STANDARD
END:VTIMEZONE
BEGIN:VEVENT
UID:2177-67
DTSTAMP:20260421T165721Z
SUMMARY:10.00 Uhr Kneippverein Joga im Vortragsraum
LOCATION:
ORGANIZER;CN=Rauscher_2606:MAILTO:info@klostermuehle-altenmarkt.de
RRULE:FREQ=WEEKLY;UNTIL=20250214T000000Z
DTSTART;TZID=Etc/GMT+0;VALUE=DATE:20250117
DTEND;TZID=Etc/GMT+0;VALUE=DATE:20250118
X-ALT-DESC;FMTTYPE=TEXT/HTML:
CATEGORIES:Kochkurse
URL;VALUE=URI:https://klostermuehle-altenmarkt.de/mc-events/10-00-uhr-kneip
 pverein-joga-im-vortragsraum?mc_id=2177
METHOD:PUBLISH
END:VEVENT
END:VCALENDAR