BEGIN:VCALENDAR
VERSION:2.0
PRODID:spatie/icalendar-generator
DESCRIPTION:Veranstaltungen von Klostermühle Altenmarkt
X-WR-CALDESC:Veranstaltungen von Klostermühle Altenmarkt
REFRESH-INTERVAL;VALUE=DURATION:PT1440M
X-PUBLISHED-TTL:PT1440M
BEGIN:VTIMEZONE
TZID:Etc/GMT+0
BEGIN:STANDARD
DTSTART:20240703T000000Z
TZOFFSETFROM:+0000
TZOFFSETTO:+0000
END:STANDARD
END:VTIMEZONE
BEGIN:VTIMEZONE
TZID:UTC
BEGIN:STANDARD
DTSTART:20250726T062422Z
TZOFFSETFROM:+0000
TZOFFSETTO:+0000
END:STANDARD
END:VTIMEZONE
BEGIN:VEVENT
UID:2279-157
DTSTAMP:20260422T062422Z
SUMMARY:Heute bleibt die Klostermühle geschlossen
LOCATION:
ORGANIZER;CN=Rauscher_2606:MAILTO:info@klostermuehle-altenmarkt.de
DTSTART;TZID=Etc/GMT+0;VALUE=DATE:20250330
DTEND;TZID=Etc/GMT+0;VALUE=DATE:20250331
X-ALT-DESC;FMTTYPE=TEXT/HTML:
CATEGORIES:Bauernladen
URL;VALUE=URI:https://klostermuehle-altenmarkt.de/mc-events/heute-bleibt-di
 e-klostermuehle-geschlossen
METHOD:PUBLISH
END:VEVENT
END:VCALENDAR