BEGIN:VCALENDAR
VERSION:2.0
PRODID:spatie/icalendar-generator
DESCRIPTION:Veranstaltungen von Klostermühle Altenmarkt
X-WR-CALDESC:Veranstaltungen von Klostermühle Altenmarkt
REFRESH-INTERVAL;VALUE=DURATION:PT1440M
X-PUBLISHED-TTL:PT1440M
BEGIN:VTIMEZONE
TZID:Etc/GMT+0
BEGIN:STANDARD
DTSTART:20240702T000000Z
TZOFFSETFROM:+0000
TZOFFSETTO:+0000
END:STANDARD
END:VTIMEZONE
BEGIN:VTIMEZONE
TZID:UTC
BEGIN:STANDARD
DTSTART:20250726T024322Z
TZOFFSETFROM:+0000
TZOFFSETTO:+0000
END:STANDARD
END:VTIMEZONE
BEGIN:VEVENT
UID:2285-163
DTSTAMP:20260422T024322Z
SUMMARY:18.00 Uhr Geburtstasfeier in der Guten Stube
LOCATION:
ORGANIZER;CN=Rauscher_2606:MAILTO:info@klostermuehle-altenmarkt.de
DTSTART;TZID=Etc/GMT+0:20250329T000000
DTEND;TZID=Etc/GMT+0:20250329T010000
X-ALT-DESC;FMTTYPE=TEXT/HTML:
CATEGORIES:Bauernladen
URL;VALUE=URI:https://klostermuehle-altenmarkt.de/mc-events/18-00-uhr-gebur
 tstasfeier-in-der-guten-stube
METHOD:PUBLISH
END:VEVENT
END:VCALENDAR