BEGIN:VCALENDAR
VERSION:2.0
PRODID:spatie/icalendar-generator
DESCRIPTION:Veranstaltungen von Klostermühle Altenmarkt
X-WR-CALDESC:Veranstaltungen von Klostermühle Altenmarkt
REFRESH-INTERVAL;VALUE=DURATION:PT1440M
X-PUBLISHED-TTL:PT1440M
BEGIN:VTIMEZONE
TZID:Etc/GMT+0
BEGIN:STANDARD
DTSTART:20240822T000000Z
TZOFFSETFROM:+0000
TZOFFSETTO:+0000
END:STANDARD
END:VTIMEZONE
BEGIN:VTIMEZONE
TZID:UTC
BEGIN:STANDARD
DTSTART:20250727T025600Z
TZOFFSETFROM:+0000
TZOFFSETTO:+0000
END:STANDARD
END:VTIMEZONE
BEGIN:VEVENT
UID:2338-215
DTSTAMP:20260423T025600Z
SUMMARY:8.00 Uhr BUND Umweltbildung im Innenhof
LOCATION:
ORGANIZER;CN=Rauscher_2606:MAILTO:info@klostermuehle-altenmarkt.de
DTSTART;TZID=Etc/GMT+0;VALUE=DATE:20250519
DTEND;TZID=Etc/GMT+0;VALUE=DATE:20250520
X-ALT-DESC;FMTTYPE=TEXT/HTML:
CATEGORIES:Kochkurse
URL;VALUE=URI:https://klostermuehle-altenmarkt.de/mc-events/8-00-uhr-bund-u
 mweltbildung-im-innenhof
METHOD:PUBLISH
END:VEVENT
END:VCALENDAR