BEGIN:VCALENDAR
VERSION:2.0
PRODID:spatie/icalendar-generator
DESCRIPTION:Veranstaltungen von Klostermühle Altenmarkt
X-WR-CALDESC:Veranstaltungen von Klostermühle Altenmarkt
REFRESH-INTERVAL;VALUE=DURATION:PT1440M
X-PUBLISHED-TTL:PT1440M
BEGIN:VTIMEZONE
TZID:Etc/GMT+0
BEGIN:STANDARD
DTSTART:20250106T000000Z
TZOFFSETFROM:+0000
TZOFFSETTO:+0000
END:STANDARD
END:VTIMEZONE
BEGIN:VTIMEZONE
TZID:UTC
BEGIN:STANDARD
DTSTART:20250727T184927Z
TZOFFSETFROM:+0000
TZOFFSETTO:+0000
END:STANDARD
END:VTIMEZONE
BEGIN:VEVENT
UID:2347-224
DTSTAMP:20260423T184927Z
SUMMARY:HEUTE BLEIBT DIE KLOSTERMÜHLE GESCHLOSSEN
LOCATION:
ORGANIZER;CN=Rauscher_2606:MAILTO:info@klostermuehle-altenmarkt.de
DTSTART;TZID=Etc/GMT+0:20251003T000000
DTEND;TZID=Etc/GMT+0:20251003T010000
X-ALT-DESC;FMTTYPE=TEXT/HTML:
CATEGORIES:Bauernladen
URL;VALUE=URI:https://klostermuehle-altenmarkt.de/mc-events/heute-bleibt-di
 e-klostermuehle-geschlossen-3
METHOD:PUBLISH
END:VEVENT
END:VCALENDAR