BEGIN:VCALENDAR
VERSION:2.0
PRODID:spatie/icalendar-generator
DESCRIPTION:Veranstaltungen von Klostermühle Altenmarkt
X-WR-CALDESC:Veranstaltungen von Klostermühle Altenmarkt
REFRESH-INTERVAL;VALUE=DURATION:PT1440M
X-PUBLISHED-TTL:PT1440M
BEGIN:VTIMEZONE
TZID:Etc/GMT+0
BEGIN:STANDARD
DTSTART:20250107T000000Z
TZOFFSETFROM:+0000
TZOFFSETTO:+0000
END:STANDARD
END:VTIMEZONE
BEGIN:VTIMEZONE
TZID:UTC
BEGIN:STANDARD
DTSTART:20250727T224255Z
TZOFFSETFROM:+0000
TZOFFSETTO:+0000
END:STANDARD
END:VTIMEZONE
BEGIN:VEVENT
UID:2348-225
DTSTAMP:20260423T224255Z
SUMMARY:17.00 Uhr Ahnenforscher in der Guten Stube
LOCATION:
ORGANIZER;CN=Rauscher_2606:MAILTO:info@klostermuehle-altenmarkt.de
DTSTART;TZID=Etc/GMT+0:20251004T000000
DTEND;TZID=Etc/GMT+0:20251004T010000
X-ALT-DESC;FMTTYPE=TEXT/HTML:
CATEGORIES:Veranstaltung
URL;VALUE=URI:https://klostermuehle-altenmarkt.de/mc-events/17-00-uhr-ahnen
 forscher-in-der-guten-stube
METHOD:PUBLISH
END:VEVENT
END:VCALENDAR