BEGIN:VCALENDAR
VERSION:2.0
PRODID:spatie/icalendar-generator
DESCRIPTION:Veranstaltungen von Klostermühle Altenmarkt
X-WR-CALDESC:Veranstaltungen von Klostermühle Altenmarkt
REFRESH-INTERVAL;VALUE=DURATION:PT1440M
X-PUBLISHED-TTL:PT1440M
BEGIN:VTIMEZONE
TZID:Etc/GMT+0
BEGIN:STANDARD
DTSTART:20250513T000000Z
TZOFFSETFROM:+0000
TZOFFSETTO:+0000
END:STANDARD
END:VTIMEZONE
BEGIN:VTIMEZONE
TZID:UTC
BEGIN:STANDARD
DTSTART:20250723T161956Z
TZOFFSETFROM:+0000
TZOFFSETTO:+0000
END:STANDARD
END:VTIMEZONE
BEGIN:VEVENT
UID:2411-287
DTSTAMP:20260419T161956Z
SUMMARY:10.00 Uhr Kochkurs in der Wirtschaftsküche
LOCATION:
ORGANIZER;CN=Rauscher_2606:MAILTO:info@klostermuehle-altenmarkt.de
DTSTART;TZID=Etc/GMT+0;VALUE=DATE:20260207
DTEND;TZID=Etc/GMT+0;VALUE=DATE:20260208
X-ALT-DESC;FMTTYPE=TEXT/HTML:
CATEGORIES:Kochkurse
URL;VALUE=URI:https://klostermuehle-altenmarkt.de/mc-events/10-00-uhr-kochk
 urs-in-der-wirtschaftskueche-3
METHOD:PUBLISH
END:VEVENT
END:VCALENDAR