BEGIN:VCALENDAR
VERSION:2.0
PRODID:spatie/icalendar-generator
DESCRIPTION:Veranstaltungen von Klostermühle Altenmarkt
X-WR-CALDESC:Veranstaltungen von Klostermühle Altenmarkt
REFRESH-INTERVAL;VALUE=DURATION:PT1440M
X-PUBLISHED-TTL:PT1440M
BEGIN:VTIMEZONE
TZID:Etc/GMT+0
BEGIN:STANDARD
DTSTART:20250515T000000Z
TZOFFSETFROM:+0000
TZOFFSETTO:+0000
END:STANDARD
END:VTIMEZONE
BEGIN:VTIMEZONE
TZID:UTC
BEGIN:STANDARD
DTSTART:20250723T155457Z
TZOFFSETFROM:+0000
TZOFFSETTO:+0000
END:STANDARD
END:VTIMEZONE
BEGIN:VEVENT
UID:2418-294
DTSTAMP:20260419T155457Z
SUMMARY:15.00 Uhr Rentner Stammtisch in der Schänke
LOCATION:
ORGANIZER;CN=Rauscher_2606:MAILTO:info@klostermuehle-altenmarkt.de
DTSTART;TZID=Etc/GMT+0;VALUE=DATE:20260209
DTEND;TZID=Etc/GMT+0;VALUE=DATE:20260210
X-ALT-DESC;FMTTYPE=TEXT/HTML:
CATEGORIES:Seminare
URL;VALUE=URI:https://klostermuehle-altenmarkt.de/mc-events/15-00-uhr-rentn
 er-stammtisch-in-der-schaenke-2
METHOD:PUBLISH
END:VEVENT
END:VCALENDAR