BEGIN:VCALENDAR
VERSION:2.0
PRODID:spatie/icalendar-generator
DESCRIPTION:Veranstaltungen von Klostermühle Altenmarkt
X-WR-CALDESC:Veranstaltungen von Klostermühle Altenmarkt
REFRESH-INTERVAL;VALUE=DURATION:PT1440M
X-PUBLISHED-TTL:PT1440M
BEGIN:VTIMEZONE
TZID:Etc/GMT+0
BEGIN:STANDARD
DTSTART:20250701T000000Z
TZOFFSETFROM:+0000
TZOFFSETTO:+0000
END:STANDARD
END:VTIMEZONE
BEGIN:VTIMEZONE
TZID:UTC
BEGIN:STANDARD
DTSTART:20250726T003147Z
TZOFFSETFROM:+0000
TZOFFSETTO:+0000
END:STANDARD
END:VTIMEZONE
BEGIN:VEVENT
UID:2458-333
DTSTAMP:20260422T003147Z
SUMMARY:20.00 Uhr Lebensgärten - Kinoabend im Vortragsraum
LOCATION:
ORGANIZER;CN=Rauscher_2606:MAILTO:info@klostermuehle-altenmarkt.de
DTSTART;TZID=Etc/GMT+0;VALUE=DATE:20260328
DTEND;TZID=Etc/GMT+0;VALUE=DATE:20260329
X-ALT-DESC;FMTTYPE=TEXT/HTML:
CATEGORIES:Veranstaltung
URL;VALUE=URI:https://klostermuehle-altenmarkt.de/mc-events/20-00-uhr-leben
 sgaerten-kinoabend-im-vortragsraum
METHOD:PUBLISH
END:VEVENT
END:VCALENDAR