BEGIN:VCALENDAR
VERSION:2.0
PRODID:spatie/icalendar-generator
DESCRIPTION:Veranstaltungen von Klostermühle Altenmarkt
X-WR-CALDESC:Veranstaltungen von Klostermühle Altenmarkt
REFRESH-INTERVAL;VALUE=DURATION:PT1440M
X-PUBLISHED-TTL:PT1440M
BEGIN:VTIMEZONE
TZID:Etc/GMT+0
BEGIN:STANDARD
DTSTART:20250709T000000Z
TZOFFSETFROM:+0000
TZOFFSETTO:+0000
END:STANDARD
END:VTIMEZONE
BEGIN:VTIMEZONE
TZID:UTC
BEGIN:STANDARD
DTSTART:20250728T153102Z
TZOFFSETFROM:+0000
TZOFFSETTO:+0000
END:STANDARD
END:VTIMEZONE
BEGIN:VEVENT
UID:2473-348
DTSTAMP:20260424T153102Z
SUMMARY:WIR WÜNSCHEN ALLEN GÄSTEN\, KUNDEN UND FREUNDEN EIN GESEGNETES OS
 TERFEST - den Frieden und die Freude des Auferstandenen
LOCATION:
ORGANIZER;CN=Rauscher_2606:MAILTO:info@klostermuehle-altenmarkt.de
DTSTART;TZID=Etc/GMT+0;VALUE=DATE:20260405
DTEND;TZID=Etc/GMT+0;VALUE=DATE:20260406
X-ALT-DESC;FMTTYPE=TEXT/HTML:
CATEGORIES:Veranstaltung
URL;VALUE=URI:https://klostermuehle-altenmarkt.de/mc-events/wir-wuenschen-a
 llen-gaesten-kunden-und-freunden-ein-gesegnetes-osterfest-den-frieden-und-
 die-freude-des-auferstandenen
METHOD:PUBLISH
END:VEVENT
END:VCALENDAR