BEGIN:VCALENDAR
VERSION:2.0
PRODID:spatie/icalendar-generator
DESCRIPTION:Veranstaltungen von Klostermühle Altenmarkt
X-WR-CALDESC:Veranstaltungen von Klostermühle Altenmarkt
REFRESH-INTERVAL;VALUE=DURATION:PT1440M
X-PUBLISHED-TTL:PT1440M
BEGIN:VTIMEZONE
TZID:Etc/GMT+0
BEGIN:STANDARD
DTSTART:20240125T090000Z
TZOFFSETFROM:+0000
TZOFFSETTO:+0000
END:STANDARD
END:VTIMEZONE
BEGIN:VTIMEZONE
TZID:UTC
BEGIN:STANDARD
DTSTART:20250726T183826Z
TZOFFSETFROM:+0000
TZOFFSETTO:+0000
END:STANDARD
END:VTIMEZONE
BEGIN:VEVENT
UID:71-3
DTSTAMP:20260422T183826Z
SUMMARY:Bauernladen geöffnet
LOCATION:Klostermühle Altenmarkt Altenmarkt 6  Cham  93413
ORGANIZER;CN=Rauscher_2606:MAILTO:info@klostermuehle-altenmarkt.de
RRULE:FREQ=WEEKLY;UNTIL=20300107T000000Z
DTSTART;TZID=Etc/GMT+0:20241021T090000
DTEND;TZID=Etc/GMT+0:20241021T190000
X-ALT-DESC;FMTTYPE=TEXT/HTML:Unser Bauernladen hat heute für Euch geöffne
 t!
CATEGORIES:Bauernladen
URL;VALUE=URI:https://klostermuehle-altenmarkt.de/mc-events/bauernladen-geo
 effnet?mc_id=71
METHOD:PUBLISH
END:VEVENT
END:VCALENDAR