BEGIN:VCALENDAR
VERSION:2.0
PRODID:spatie/icalendar-generator
DESCRIPTION:Veranstaltungen von Klostermühle Altenmarkt
X-WR-CALDESC:Veranstaltungen von Klostermühle Altenmarkt
REFRESH-INTERVAL;VALUE=DURATION:PT1440M
X-PUBLISHED-TTL:PT1440M
BEGIN:VTIMEZONE
TZID:Etc/GMT+0
BEGIN:STANDARD
DTSTART:20231124T180000Z
TZOFFSETFROM:+0000
TZOFFSETTO:+0000
END:STANDARD
END:VTIMEZONE
BEGIN:VTIMEZONE
TZID:UTC
BEGIN:STANDARD
DTSTART:20250723T235356Z
TZOFFSETFROM:+0000
TZOFFSETTO:+0000
END:STANDARD
END:VTIMEZONE
BEGIN:VEVENT
UID:2102-9
DTSTAMP:20260419T235356Z
SUMMARY:Aquarelltreff / Malgruppe
LOCATION:Klostermühle Altenmarkt Altenmarkt 6  Cham  93413
ORGANIZER;CN=Rauscher_2606:MAILTO:info@klostermuehle-altenmarkt.de
RRULE:FREQ=WEEKLY;UNTIL=20240827T000000Z
DTSTART;TZID=Etc/GMT+0:20240820T180000
DTEND;TZID=Etc/GMT+0:20240820T190000
X-ALT-DESC;FMTTYPE=TEXT/HTML:Abwechselnd treffen sich im Gruppenraum oder V
 ortragsraum künstlerisch Interessierte um Günter Haslbeck  zum Aquarell
  malen oder um Frau Himmelstoß zum porträtieren oder alternative Technik
 en zu üben.
CATEGORIES:Seminare
URL;VALUE=URI:https://klostermuehle-altenmarkt.de/mc-events/aquarelltreff-m
 algruppe?mc_id=2102
METHOD:PUBLISH
END:VEVENT
END:VCALENDAR