BEGIN:VCALENDAR
VERSION:2.0
PRODID:spatie/icalendar-generator
DESCRIPTION:Veranstaltungen von Klostermühle Altenmarkt
X-WR-CALDESC:Veranstaltungen von Klostermühle Altenmarkt
REFRESH-INTERVAL;VALUE=DURATION:PT1440M
X-PUBLISHED-TTL:PT1440M
BEGIN:VTIMEZONE
TZID:Etc/GMT+0
BEGIN:STANDARD
DTSTART:20240314T140000Z
TZOFFSETFROM:+0000
TZOFFSETTO:+0000
END:STANDARD
END:VTIMEZONE
BEGIN:VTIMEZONE
TZID:UTC
BEGIN:STANDARD
DTSTART:20250723T204235Z
TZOFFSETFROM:+0000
TZOFFSETTO:+0000
END:STANDARD
END:VTIMEZONE
BEGIN:VEVENT
UID:2148-38
DTSTAMP:20260419T204235Z
SUMMARY:VDK Weihnachtsfeier in der Guten Stube
LOCATION:
ORGANIZER;CN=Rauscher_2606:MAILTO:info@klostermuehle-altenmarkt.de
DTSTART;TZID=Etc/GMT+0:20241209T140000
DTEND;TZID=Etc/GMT+0:20241209T150000
X-ALT-DESC;FMTTYPE=TEXT/HTML:
CATEGORIES:Veranstaltung
URL;VALUE=URI:https://klostermuehle-altenmarkt.de/mc-events/vdk-weihnachtsf
 eier-in-der-guten-stube
METHOD:PUBLISH
END:VEVENT
END:VCALENDAR