BEGIN:VCALENDAR
VERSION:2.0
PRODID:spatie/icalendar-generator
DESCRIPTION:Veranstaltungen von Klostermühle Altenmarkt
X-WR-CALDESC:Veranstaltungen von Klostermühle Altenmarkt
REFRESH-INTERVAL;VALUE=DURATION:PT1440M
X-PUBLISHED-TTL:PT1440M
BEGIN:VTIMEZONE
TZID:Etc/GMT+0
BEGIN:STANDARD
DTSTART:20240606T000000Z
TZOFFSETFROM:+0000
TZOFFSETTO:+0000
END:STANDARD
END:VTIMEZONE
BEGIN:VTIMEZONE
TZID:UTC
BEGIN:STANDARD
DTSTART:20250727T052352Z
TZOFFSETFROM:+0000
TZOFFSETTO:+0000
END:STANDARD
END:VTIMEZONE
BEGIN:VEVENT
UID:2224-106
DTSTAMP:20260423T052352Z
SUMMARY:VHS Lerntreff 8.30 Uhr Kochaktion zum Fasching
LOCATION:
ORGANIZER;CN=Rauscher_2606:MAILTO:info@klostermuehle-altenmarkt.de
DTSTART;TZID=Etc/GMT+0;VALUE=DATE:20250303
DTEND;TZID=Etc/GMT+0;VALUE=DATE:20250304
X-ALT-DESC;FMTTYPE=TEXT/HTML:
CATEGORIES:Kochkurse
URL;VALUE=URI:https://klostermuehle-altenmarkt.de/mc-events/vhs-lerntreff-8
 -30-uhr-kochaktion-zum-fasching
METHOD:PUBLISH
END:VEVENT
END:VCALENDAR