BEGIN:VCALENDAR
VERSION:2.0
PRODID:spatie/icalendar-generator
DESCRIPTION:Veranstaltungen von Klostermühle Altenmarkt
X-WR-CALDESC:Veranstaltungen von Klostermühle Altenmarkt
REFRESH-INTERVAL;VALUE=DURATION:PT1440M
X-PUBLISHED-TTL:PT1440M
BEGIN:VTIMEZONE
TZID:Etc/GMT+0
BEGIN:STANDARD
DTSTART:20240805T000000Z
TZOFFSETFROM:+0000
TZOFFSETTO:+0000
END:STANDARD
END:VTIMEZONE
BEGIN:VTIMEZONE
TZID:UTC
BEGIN:STANDARD
DTSTART:20250726T060727Z
TZOFFSETFROM:+0000
TZOFFSETTO:+0000
END:STANDARD
END:VTIMEZONE
BEGIN:VEVENT
UID:2326-203
DTSTAMP:20260422T060727Z
SUMMARY:10.00 Uhr Kneipp Verein - Joga im Vortragsraum
LOCATION:
ORGANIZER;CN=Rauscher_2606:MAILTO:info@klostermuehle-altenmarkt.de
DTSTART;TZID=Etc/GMT+0;VALUE=DATE:20250502
DTEND;TZID=Etc/GMT+0;VALUE=DATE:20250503
X-ALT-DESC;FMTTYPE=TEXT/HTML:
CATEGORIES:Bauernladen
URL;VALUE=URI:https://klostermuehle-altenmarkt.de/mc-events/10-00-uhr-kneip
 p-verein-joga-im-vortragsraum-3
METHOD:PUBLISH
END:VEVENT
END:VCALENDAR