BEGIN:VCALENDAR
VERSION:2.0
PRODID:spatie/icalendar-generator
DESCRIPTION:Veranstaltungen von Klostermühle Altenmarkt
X-WR-CALDESC:Veranstaltungen von Klostermühle Altenmarkt
REFRESH-INTERVAL;VALUE=DURATION:PT1440M
X-PUBLISHED-TTL:PT1440M
BEGIN:VTIMEZONE
TZID:Etc/GMT+0
BEGIN:STANDARD
DTSTART:20250108T000000Z
TZOFFSETFROM:+0000
TZOFFSETTO:+0000
END:STANDARD
END:VTIMEZONE
BEGIN:VTIMEZONE
TZID:UTC
BEGIN:STANDARD
DTSTART:20250728T034904Z
TZOFFSETFROM:+0000
TZOFFSETTO:+0000
END:STANDARD
END:VTIMEZONE
BEGIN:VEVENT
UID:2349-226
DTSTAMP:20260424T034904Z
SUMMARY:ab 15.00 Uhr HERBSFEST der Lebensgärten Bayerwald
LOCATION:
ORGANIZER;CN=Rauscher_2606:MAILTO:info@klostermuehle-altenmarkt.de
DTSTART;TZID=Etc/GMT+0:20251005T000000
DTEND;TZID=Etc/GMT+0:20251005T010000
X-ALT-DESC;FMTTYPE=TEXT/HTML:
CATEGORIES:Veranstaltung
URL;VALUE=URI:https://klostermuehle-altenmarkt.de/mc-events/ab-15-00-uhr-he
 rbsfest-der-lebensgaerten-bayerwald
METHOD:PUBLISH
END:VEVENT
END:VCALENDAR