BEGIN:VCALENDAR
VERSION:2.0
PRODID:spatie/icalendar-generator
DESCRIPTION:Veranstaltungen von Klostermühle Altenmarkt
X-WR-CALDESC:Veranstaltungen von Klostermühle Altenmarkt
REFRESH-INTERVAL;VALUE=DURATION:PT1440M
X-PUBLISHED-TTL:PT1440M
BEGIN:VTIMEZONE
TZID:Etc/GMT+0
BEGIN:STANDARD
DTSTART:20250422T000000Z
TZOFFSETFROM:+0000
TZOFFSETTO:+0000
END:STANDARD
END:VTIMEZONE
BEGIN:VTIMEZONE
TZID:UTC
BEGIN:STANDARD
DTSTART:20250726T194938Z
TZOFFSETFROM:+0000
TZOFFSETTO:+0000
END:STANDARD
END:VTIMEZONE
BEGIN:VEVENT
UID:2378-254
DTSTAMP:20260422T194938Z
SUMMARY:9.00 Uhr Farb Klang Workshop im Vortragsraum
LOCATION:
ORGANIZER;CN=Rauscher_2606:MAILTO:info@klostermuehle-altenmarkt.de
DTSTART;TZID=Etc/GMT+0;VALUE=DATE:20260117
DTEND;TZID=Etc/GMT+0;VALUE=DATE:20260118
X-ALT-DESC;FMTTYPE=TEXT/HTML:
CATEGORIES:Seminare
URL;VALUE=URI:https://klostermuehle-altenmarkt.de/mc-events/9-00-uhr-farb-k
 lang-workshop-im-vortragsraum
METHOD:PUBLISH
END:VEVENT
END:VCALENDAR