BEGIN:VCALENDAR
VERSION:2.0
PRODID:spatie/icalendar-generator
DESCRIPTION:Veranstaltungen von Klostermühle Altenmarkt
X-WR-CALDESC:Veranstaltungen von Klostermühle Altenmarkt
REFRESH-INTERVAL;VALUE=DURATION:PT1440M
X-PUBLISHED-TTL:PT1440M
BEGIN:VTIMEZONE
TZID:Etc/GMT+0
BEGIN:STANDARD
DTSTART:20250506T000000Z
TZOFFSETFROM:+0000
TZOFFSETTO:+0000
END:STANDARD
END:VTIMEZONE
BEGIN:VTIMEZONE
TZID:UTC
BEGIN:STANDARD
DTSTART:20250724T133334Z
TZOFFSETFROM:+0000
TZOFFSETTO:+0000
END:STANDARD
END:VTIMEZONE
BEGIN:VEVENT
UID:2399-275
DTSTAMP:20260420T133334Z
SUMMARY:12.30 Uhr Geburtstagsfeier in der Guten Stube
LOCATION:
ORGANIZER;CN=Rauscher_2606:MAILTO:info@klostermuehle-altenmarkt.de
DTSTART;TZID=Etc/GMT+0;VALUE=DATE:20260131
DTEND;TZID=Etc/GMT+0;VALUE=DATE:20260201
X-ALT-DESC;FMTTYPE=TEXT/HTML:
CATEGORIES:Veranstaltung
URL;VALUE=URI:https://klostermuehle-altenmarkt.de/mc-events/12-30-uhr-gebur
 tstagsfeier-in-der-guten-stube
METHOD:PUBLISH
END:VEVENT
END:VCALENDAR