BEGIN:VCALENDAR
VERSION:2.0
PRODID:spatie/icalendar-generator
DESCRIPTION:Veranstaltungen von Klostermühle Altenmarkt
X-WR-CALDESC:Veranstaltungen von Klostermühle Altenmarkt
REFRESH-INTERVAL;VALUE=DURATION:PT1440M
X-PUBLISHED-TTL:PT1440M
BEGIN:VTIMEZONE
TZID:Etc/GMT+0
BEGIN:STANDARD
DTSTART:20250511T000000Z
TZOFFSETFROM:+0000
TZOFFSETTO:+0000
END:STANDARD
END:VTIMEZONE
BEGIN:VTIMEZONE
TZID:UTC
BEGIN:STANDARD
DTSTART:20250724T023436Z
TZOFFSETFROM:+0000
TZOFFSETTO:+0000
END:STANDARD
END:VTIMEZONE
BEGIN:VEVENT
UID:2408-284
DTSTAMP:20260420T023436Z
SUMMARY:VHS 9.00 Uhr Qui Gong im Vortragsraum
LOCATION:
ORGANIZER;CN=Rauscher_2606:MAILTO:info@klostermuehle-altenmarkt.de
DTSTART;TZID=Etc/GMT+0;VALUE=DATE:20260205
DTEND;TZID=Etc/GMT+0;VALUE=DATE:20260206
X-ALT-DESC;FMTTYPE=TEXT/HTML:
CATEGORIES:Seminare
URL;VALUE=URI:https://klostermuehle-altenmarkt.de/mc-events/vhs-9-00-uhr-qu
 i-gong-im-vortragsraum-15
METHOD:PUBLISH
END:VEVENT
END:VCALENDAR