BEGIN:VCALENDAR
VERSION:2.0
PRODID:spatie/icalendar-generator
DESCRIPTION:Veranstaltungen von Klostermühle Altenmarkt
X-WR-CALDESC:Veranstaltungen von Klostermühle Altenmarkt
REFRESH-INTERVAL;VALUE=DURATION:PT1440M
X-PUBLISHED-TTL:PT1440M
BEGIN:VTIMEZONE
TZID:Etc/GMT+0
BEGIN:STANDARD
DTSTART:20250703T000000Z
TZOFFSETFROM:+0000
TZOFFSETTO:+0000
END:STANDARD
END:VTIMEZONE
BEGIN:VTIMEZONE
TZID:UTC
BEGIN:STANDARD
DTSTART:20250725T203507Z
TZOFFSETFROM:+0000
TZOFFSETTO:+0000
END:STANDARD
END:VTIMEZONE
BEGIN:VEVENT
UID:2465-340
DTSTAMP:20260421T203507Z
SUMMARY:9.00 Uhr Italienisch Kochkurs in der Wirtschaftsküche
LOCATION:
ORGANIZER;CN=Rauscher_2606:MAILTO:info@klostermuehle-altenmarkt.de
DTSTART;TZID=Etc/GMT+0;VALUE=DATE:20260330
DTEND;TZID=Etc/GMT+0;VALUE=DATE:20260331
X-ALT-DESC;FMTTYPE=TEXT/HTML:
CATEGORIES:Kochkurse
URL;VALUE=URI:https://klostermuehle-altenmarkt.de/mc-events/9-00-uhr-italie
 nisch-kochkurs-in-der-wirtschaftskueche
METHOD:PUBLISH
END:VEVENT
END:VCALENDAR